BEGIN:VCALENDAR
VERSION:2.0
PRODID:-//BOWERBIRD ::: MUSIC, DANCE, FILM ::: Philadelphia, PA - ECPv6.15.17.1//NONSGML v1.0//EN
CALSCALE:GREGORIAN
METHOD:PUBLISH
X-WR-CALNAME:BOWERBIRD ::: MUSIC, DANCE, FILM ::: Philadelphia, PA
X-ORIGINAL-URL:https://www.bowerbird.org
X-WR-CALDESC:Events for BOWERBIRD ::: MUSIC, DANCE, FILM ::: Philadelphia, PA
REFRESH-INTERVAL;VALUE=DURATION:PT1H
X-Robots-Tag:noindex
X-PUBLISHED-TTL:PT1H
BEGIN:VTIMEZONE
TZID:America/New_York
BEGIN:DAYLIGHT
TZOFFSETFROM:-0500
TZOFFSETTO:-0400
TZNAME:EDT
DTSTART:20180311T070000
END:DAYLIGHT
BEGIN:STANDARD
TZOFFSETFROM:-0400
TZOFFSETTO:-0500
TZNAME:EST
DTSTART:20181104T060000
END:STANDARD
BEGIN:DAYLIGHT
TZOFFSETFROM:-0500
TZOFFSETTO:-0400
TZNAME:EDT
DTSTART:20190310T070000
END:DAYLIGHT
BEGIN:STANDARD
TZOFFSETFROM:-0400
TZOFFSETTO:-0500
TZNAME:EST
DTSTART:20191103T060000
END:STANDARD
BEGIN:DAYLIGHT
TZOFFSETFROM:-0500
TZOFFSETTO:-0400
TZNAME:EDT
DTSTART:20200308T070000
END:DAYLIGHT
BEGIN:STANDARD
TZOFFSETFROM:-0400
TZOFFSETTO:-0500
TZNAME:EST
DTSTART:20201101T060000
END:STANDARD
BEGIN:DAYLIGHT
TZOFFSETFROM:-0500
TZOFFSETTO:-0400
TZNAME:EDT
DTSTART:20210314T070000
END:DAYLIGHT
BEGIN:STANDARD
TZOFFSETFROM:-0400
TZOFFSETTO:-0500
TZNAME:EST
DTSTART:20211107T060000
END:STANDARD
BEGIN:DAYLIGHT
TZOFFSETFROM:-0500
TZOFFSETTO:-0400
TZNAME:EDT
DTSTART:20220313T070000
END:DAYLIGHT
BEGIN:STANDARD
TZOFFSETFROM:-0400
TZOFFSETTO:-0500
TZNAME:EST
DTSTART:20221106T060000
END:STANDARD
BEGIN:DAYLIGHT
TZOFFSETFROM:-0500
TZOFFSETTO:-0400
TZNAME:EDT
DTSTART:20230312T070000
END:DAYLIGHT
BEGIN:STANDARD
TZOFFSETFROM:-0400
TZOFFSETTO:-0500
TZNAME:EST
DTSTART:20231105T060000
END:STANDARD
BEGIN:DAYLIGHT
TZOFFSETFROM:-0500
TZOFFSETTO:-0400
TZNAME:EDT
DTSTART:20240310T070000
END:DAYLIGHT
BEGIN:STANDARD
TZOFFSETFROM:-0400
TZOFFSETTO:-0500
TZNAME:EST
DTSTART:20241103T060000
END:STANDARD
BEGIN:DAYLIGHT
TZOFFSETFROM:-0500
TZOFFSETTO:-0400
TZNAME:EDT
DTSTART:20250309T070000
END:DAYLIGHT
BEGIN:STANDARD
TZOFFSETFROM:-0400
TZOFFSETTO:-0500
TZNAME:EST
DTSTART:20251102T060000
END:STANDARD
END:VTIMEZONE
BEGIN:VEVENT
DTSTART;TZID=America/New_York:20240121T140000
DTEND;TZID=America/New_York:20240121T160000
DTSTAMP:20260424T052059
CREATED:20230817T165438Z
LAST-MODIFIED:20240821T153514Z
UID:10001199-1705845600-1705852800@www.bowerbird.org
SUMMARY:Bartok's Monster
DESCRIPTION:The 7pm performance of “Bartok’s Monster” has been sold out. A 2pm performance has been added.  \nInspired by Avoid the Day: A New Nonfiction in Two Movements\, by Jay Kirk \nThe “insightful and vibrant” (The New York Times) Daedalus Quartet returns to our stage with Bartok’s Monster\, a collaboration with Dan Rothenberg\, Co-Founder/Co-Artistic Director of Pig Iron Theatre Company\, and Sebastienne Mundheim\, Founder/Artistic Director of White Box Theatre. A musical investigation into a missing string quartet\, this world premiere program by Penn’s exceptional quartet-in-residence takes inspiration from Penn English professor Jay Kirk’s Avoid the Day: A New Nonfiction in 2 Movements\, a book Gideon Lewis-Kraus described as “a vividly funny Gothic picaresque…and a dark\, self-consuming act of memoiristic alchemy.” \n\nABOUT THE ARTISTS \nPraised by The New Yorker as “a fresh and vital young participant in what is a golden age of American string quartets\,” the Daedalus Quartet has established itself as a leader among the new generation of string ensembles. Since winning the top prize in the Banff International String Quartet Competition in 2001\, the Daedalus Quartet has impressed critics and listeners alike with the security\, technical finish\, interpretive unity\, and sheer gusto of its performances. The New York Times has praised the Daedalus Quartet’s “insightful and vibrant” Haydn\, the “impressive intensity” of their Beethoven\, their “luminous” Berg\, and the “riveting focus” of their Dutilleux. The Washington Post in turn has acclaimed their performance of Mendelssohn for its “rockets of blistering virtuosity\,” while the Houston Chronicle has described the “silvery beauty” of their Schubert and the “magic that hushed the audience” when they played Ravel\, the Boston Globe the “finesse and fury” of their Shostakovich\, the Toronto Globe and Mail the “thrilling revelation” of their Hindemith\, and the Cincinnati Enquirer the “tremendous emotional power” of their Brahms. \nJay Kirk is the author of Avoid the Day: A New Nonfiction in 2 Movements (Harper Perennial)\, which Helen Macdonald (H is for Hawk) said “truly seems to push nonfiction memoir as far as it can go without it collapsing into a singularity and I am at a loss for words. You are just going to have to read it.” His first book\, Kingdom Under Glass\, was picked by the Washington Post as one of the “Best Nonfiction Books of 2010.” His work has appeared in Harper’s\, GQ\, and The New York Times Magazine\, and has been widely anthologized in the Best American series. He is a recipient of a 2017 Whiting Writing Award\, a 2005 Pew Fellowship in the Arts\, and a finalist for the 2013 National Magazine Award for his story “Burning Man.” He is the founder and faculty adviser for Penn’s experimental nonfiction journal\, Xfic. \n\nBartok’s Monster is a co-presentation with Penn Live Arts and the Pig Iron School. \n\nSupport for Bartok’s Monster has been provided by The Sachs Program for Arts Innovation and the Musical Fund Society of Philadelphia.
URL:https://www.bowerbird.org/event/bartoks-monster/
LOCATION:Annenberg Center\, Harold Prince Theater\, 3680 Walnut St\, Philadelphia\, PA\, 19104\, United States
ATTACH;FMTTYPE=image/png:https://www.bowerbird.org/wp-content/uploads/2023/08/Bowerbird-Main-Img-48.png
END:VEVENT
BEGIN:VEVENT
DTSTART;TZID=America/New_York:20191011T200000
DTEND;TZID=America/New_York:20191011T220000
DTSTAMP:20260424T052059
CREATED:20190829T033116Z
LAST-MODIFIED:20190927T152714Z
UID:10001088-1570824000-1570831200@www.bowerbird.org
SUMMARY:George Crumb: Kosmos
DESCRIPTION:ZEITGEIST: GEORGE CRUMB AT 90 – NIGHT 2 \nTwo major works for solo amplified piano\, the zodiac-inspired Makrokosmos I and the more recent Metamorphoses\, celebrate George Crumb’s unfettered imagination as he requires the pianist to be a virtuoso at the keyboard while playing inside the piano and vocalizing as well. \n\nPROGRAM \nMakrokosmos\, Book I (1972)\nAdam Tendler\, piano \nGeorge Crumb in conversation with James Primosch \nMetamorphoses\, Book I (2015 – 2017)\nMargaret Leng Tan\, piano \n\nABOUT THE FESTIVAL \nBowerbird\, the University of Pennsylvania Department of Music\, and the Annenberg Center are pleased to present Zeitgeist: George Crumb at 90\, a three concert festival celebrating more than seventy years of music by Grammy and Pulitzer Prize winning composer George Crumb. Crumb’s music often juxtaposes contrasting musical styles\, ranging from music of the western art-music tradition\, to hymns and folk music\, to non-Western musics. Many of Crumb’s works include programmatic\, symbolic\, mystical and theatrical elements\, which are often reflected in his beautiful and meticulously notated scores. A shy\, yet warmly eloquent personality\, Crumb retired from his teaching position at the University of Pennsylvania after more than thirty years of service. Honored by numerous institutions with honorary Doctorates\, and the recipient of dozens of awards and prizes\, Crumb makes his home just outside of Philadelphia\, in the same house where he and his wife of more than sixty years raised their three children. \n\nThis event is part of  Zeitgeist: George Crumb at 90 \nSupport for this project has been provided by the Musical Fund Society of Philadelphia and the Pennsylvania Council on the Arts\, a state agency funded by the Commonwealth of Pennsylvania and the National Endowment for the Arts\, a federal agency.
URL:https://www.bowerbird.org/event/george-crumb-kosmos/
LOCATION:Annenberg Center\, Harold Prince Theater\, 3680 Walnut St\, Philadelphia\, PA\, 19104\, United States
ATTACH;FMTTYPE=image/jpeg:https://www.bowerbird.org/wp-content/uploads/2019/08/Crumb-Night2.jpg
END:VEVENT
END:VCALENDAR